BEGIN:VCALENDAR
VERSION:2.0
PRODID:-//Eventin//Event Calendar//EN
CALSCALE:GREGORIAN
METHOD:PUBLISH
BEGIN:VEVENT
UID:32810c613f49570397e64616a6090d81@misenplacestudio.com
SUMMARY:A Taste of What’s Next: North End Kitchen & Bar Summer Menu Sneak
  Peek
DESCRIPTION:Exclusive Demo-Style Event \nGet ready for an exclusive evening
  with one of Roswell’s most beloved culinary teams! North End Kitchen & B
 ar has been a Canton Street staple for years\, and now they are stepping in
 to the Mise en Place studio to give you a first look at their highly antici
 pated Summer Seasonal Menu.\nJoin Chef Brocc and his amazing team for this 
 high-energy\, demo-style class. You won’t just be watching\; you’ll be 
 getting an insider’s look at the techniques and inspiration behind their 
 newest dishes. Chef Brocc will be sharing expert tips\, professional "cheff
 y" secrets\, and—most importantly—generous samples of the upcoming summ
 er lineup before it even hits the restaurant!\n"Brooc Dawkins is a seasoned
  culinary professional with extensive experience across the food industry. 
 Having worked in food trucks\, catering\, grocery stores\, and restaurants\
 , Brooc brings a wealth of knowledge and creativity to every culinary endea
 vor. His hands-on experience in diverse food environments has shaped a well
 -rounded skill set that blends technical expertise with a strong understand
 ing of customer service\, operations\, and flavor innovation.Brooc’s culi
 nary journey began with a passion for bold\, honest food and a desire to co
 nnect with people through shared meals. Whether crafting unique menus for p
 rivate events\, managing high-volume restaurant kitchens\, or curating arti
 sanal offerings for retail\, he consistently prioritizes quality\, sustaina
 bility\, and originality. Known for his adaptable style and collaborative s
 pirit\, Brooc thrives in fast-paced environments where innovation meets tra
 dition.Today\, Brooc continues to explore new culinary horizons while mento
 ring emerging talent and developing concepts that celebrate community\, cul
 ture\, and creativity on the plate."\nWhether you're a North End regular or
  a foodie looking for a night of great flavors and conversation\, this is a
  "can't-miss" evening on the Square.\nWhat's Included:\n\nLive culinary dem
 onstrations by the North End team.\nExclusive tasting of their new summer m
 enu items.\nWine will be served throughout the evening to pair perfectly wi
 th the seasonal flavors.
LOCATION:603 Atlanta Street\, Roswell GA\, 30075
DTSTAMP:20260419T225326Z
DTSTART:20260428T220000Z
DTEND:20260429T000000Z
END:VEVENT
END:VCALENDAR
