BEGIN:VCALENDAR
VERSION:2.0
PRODID:-//Eventin//Event Calendar//EN
CALSCALE:GREGORIAN
METHOD:PUBLISH
BEGIN:VEVENT
UID:da03c18a617a9a82988b250c2c0c81b7@misenplacestudio.com
SUMMARY:Sourdough Secrets: The Gluten-Free Masterclass
DESCRIPTION:Stop missing out on the sourdough trend! Join Dr. Jane Wolford 
 to demystify the art of gluten-free baking. If you’ve struggled to find a
  GF bread that truly satisfies\, this hands-on workshop will show you how t
 o maintain a starter and craft a crusty\, delicious loaf with ease and flex
 ibility.\nYou won't just learn the science—you’ll get your hands in the
  dough! Every student will head home with a fresh loaf ready to bake the ne
 xt morning for that perfect\, "just-out-of-the-oven" experience.\nWhat’s 
 Included:\n\nThe Foundation: The practical science of maintaining a GF star
 ter on your own schedule.\nThe Technique: Hands-on mixing\, proofing\, and 
 shaping.\nThe Take-Home Kit: A professional 5-inch banneton\, fresh dough t
 o bake at home\, and your very own starter!
LOCATION:603 Atlanta Street\, Roswell GA\, 30075
DTSTAMP:20260422T165524Z
DTSTART:20260509T143000Z
DTEND:20260509T173000Z
END:VEVENT
END:VCALENDAR
